BEGIN:VCALENDAR
VERSION:2.0
PRODID:-//Eastern Education Group - ECPv6.15.20//NONSGML v1.0//EN
CALSCALE:GREGORIAN
METHOD:PUBLISH
X-WR-CALNAME:Eastern Education Group
X-ORIGINAL-URL:https://easterneducationgroup.ac.uk
X-WR-CALDESC:Events for Eastern Education Group
REFRESH-INTERVAL;VALUE=DURATION:PT1H
X-Robots-Tag:noindex
X-PUBLISHED-TTL:PT1H
BEGIN:VTIMEZONE
TZID:Europe/London
BEGIN:DAYLIGHT
TZOFFSETFROM:+0000
TZOFFSETTO:+0100
TZNAME:BST
DTSTART:20240331T010000
END:DAYLIGHT
BEGIN:STANDARD
TZOFFSETFROM:+0100
TZOFFSETTO:+0000
TZNAME:GMT
DTSTART:20241027T010000
END:STANDARD
BEGIN:DAYLIGHT
TZOFFSETFROM:+0000
TZOFFSETTO:+0100
TZNAME:BST
DTSTART:20250330T010000
END:DAYLIGHT
BEGIN:STANDARD
TZOFFSETFROM:+0100
TZOFFSETTO:+0000
TZNAME:GMT
DTSTART:20251026T010000
END:STANDARD
BEGIN:DAYLIGHT
TZOFFSETFROM:+0000
TZOFFSETTO:+0100
TZNAME:BST
DTSTART:20260329T010000
END:DAYLIGHT
BEGIN:STANDARD
TZOFFSETFROM:+0100
TZOFFSETTO:+0000
TZNAME:GMT
DTSTART:20261025T010000
END:STANDARD
BEGIN:DAYLIGHT
TZOFFSETFROM:+0000
TZOFFSETTO:+0100
TZNAME:BST
DTSTART:20270328T010000
END:DAYLIGHT
BEGIN:STANDARD
TZOFFSETFROM:+0100
TZOFFSETTO:+0000
TZNAME:GMT
DTSTART:20271031T010000
END:STANDARD
END:VTIMEZONE
BEGIN:VEVENT
DTSTART;TZID=Europe/London:20260307T100000
DTEND;TZID=Europe/London:20260307T120000
DTSTAMP:20260424T223444
CREATED:20250605T140040Z
LAST-MODIFIED:20260302T093658Z
UID:10000071-1772877600-1772884800@easterneducationgroup.ac.uk
SUMMARY:University Centre & Adult Learning Open Day – Bury St Edmunds – Sat 7 Mar
DESCRIPTION:Discover a wide range of options available to you in Bury St Edmunds\n\n\nLooking to take the next step in your education or career? Whether you’re finishing college\, returning to study as an adult\, or exploring a career change\, our University Centre & Adult Learning Open Day is the perfect place to start. \nDiscover a wide range of options available to you in Bury St Edmunds\, including: \n\nUniversity-level degrees\, HNCs\, HNDs and HTQs\nAccess to Higher Education courses\nHigher and Degree Apprenticeships\nAdult learning programmes (including English\, maths and digital skills)\nLeisure learning (including painting\, pottery\, macrame and languages)\nCareer development and professional training courses\n\nOn the day\, you’ll be able to chat with expert tutors or career advisors about your goals\, discover our flexible learning options\, get advice on applications\, funding\, placements and support services\, and explore our state-of-the-art facilities with a campus tour. \nWhether you’re aiming for a qualification to advance your career\, preparing to go to university\, or learning something new just for you – this event is for you. \nBook your place today and take the next step towards your future!
URL:https://easterneducationgroup.ac.uk/event/university-centre-adult-learning-open-day-bury-st-edmunds-sat-7-mar/
LOCATION:University Studies at West Suffolk College\, 73 Western Way\, Bury St Edmunds\, England\, IP33 3SP\, United Kingdom
CATEGORIES:Learning Centre Open Days,Open Days,University Centre Open Days
ATTACH;FMTTYPE=image/jpeg:https://easterneducationgroup.ac.uk/wp-content/uploads/sites/2/2025/06/UC_EventBrite_2160x1080.jpg
END:VEVENT
BEGIN:VEVENT
DTSTART;TZID=Europe/London:20251127T133000
DTEND;TZID=Europe/London:20251127T160000
DTSTAMP:20260424T223444
CREATED:20251119T093543Z
LAST-MODIFIED:20251119T093624Z
UID:10000135-1764250200-1764259200@easterneducationgroup.ac.uk
SUMMARY:Making Meaning with Robin Herne
DESCRIPTION:Explore the social role of religious scriptures and techniques for exegesis and eisegesis with Robin Herne\n\n\nMaking Meaning with Robin Herne \nLooking at the social role of religious scriptures and techniques for exegesis and eisegesis. Attendees are invited to bring their own preferred scripture/text. \nBio  \nRobin Herne is Course Leader for Sociology at the University and Professional Development Centre\, as well as a storyteller\, poet\, artist\, and broadcaster. Robin has published poetry\, fiction\, and academic work\, and is a founding member of Clan Ogma and the Ipswich Pagan Council. He was also honoured as the first Chief Bard of the Fens. His lectures blend scholarship with creativity\, bringing history and belief systems vividly to life. 
URL:https://easterneducationgroup.ac.uk/event/making-meaning-with-robin-herne/
LOCATION:University Studies at West Suffolk College\, 73 Western Way\, Bury St Edmunds\, England\, IP33 3SP\, United Kingdom
CATEGORIES:Edmund's Open Lecture Series
ATTACH;FMTTYPE=image/jpeg:https://easterneducationgroup.ac.uk/wp-content/uploads/sites/2/2025/11/cf75e32d7ee409dbb849e2a453f68cb7-SpITSL.tmp_.jpg
END:VEVENT
BEGIN:VEVENT
DTSTART;TZID=Europe/London:20251007T163000
DTEND;TZID=Europe/London:20251007T183000
DTSTAMP:20260424T223444
CREATED:20250605T135935Z
LAST-MODIFIED:20250912T131544Z
UID:10000068-1759854600-1759861800@easterneducationgroup.ac.uk
SUMMARY:University Centre & Adult Learning Open Day – Bury St Edmunds – Tue 7 Oct
DESCRIPTION:Discover a wide range of options available to you in Bury St EdmundsLooking to take the next step in your education or career? Whether you’re finishing college\, returning to study as an adult\, or exploring a career change\, our University Centre & Adult Learning Open Day is the perfect place to start. Discover a wide range of options available to you in Bury St Edmunds\, including: University-level degrees\, HNCs\, HNDs and HTQsAccess to Higher Education coursesHigher and Degree ApprenticeshipsAdult learning programmes (including English\, maths and digital skills)Leisure learning (including painting\, pottery\, macrame and languages)Career development and professional training coursesOn the day\, you’ll be able to chat with expert tutors or career advisors about your goals\, discover our flexible learning options\, get advice on applications\, funding\, placements and support services\, and explore our state-of-the-art facilities with a campus tour. Whether you’re aiming for a qualification to advance your career\, preparing to go to university\, or learning something new just for you – this event is for you. Book your place today and take the next step towards your future!
URL:https://easterneducationgroup.ac.uk/event/university-centre-adult-learning-open-day-bury-st-edmunds-tue-7-oct/
LOCATION:University Studies at West Suffolk College\, 73 Western Way\, Bury St Edmunds\, England\, IP33 3SP\, United Kingdom
CATEGORIES:Learning Centre Open Days,Open Days,University Centre Open Days
ATTACH;FMTTYPE=image/jpeg:https://easterneducationgroup.ac.uk/wp-content/uploads/sites/2/2025/06/UC_EventBrite_2160x1080.jpg
END:VEVENT
BEGIN:VEVENT
DTSTART;TZID=Europe/London:20250619T174500
DTEND;TZID=Europe/London:20250619T190000
DTSTAMP:20260424T223444
CREATED:20250603T133138Z
LAST-MODIFIED:20250603T133623Z
UID:10000055-1750355100-1750359600@easterneducationgroup.ac.uk
SUMMARY:The Crimes and Times of Jack the Ripper
DESCRIPTION:A series of horrific unsolved murders committed in the East End of London during what has become known as the ‘Autumn of Terror’ in 1888\n\n\nA series of horrific unsolved murders committed in the East End of London during what has become known as the ‘Autumn of Terror’ in 1888 saw the people of our capital and beyond walk the streets in fear. The murders remain unsolved and have cast a dark shadow over the annals of criminal history for over 130 years. \nAward-winning social historian Neil Storey is an internationally recognised expert on the crimes and times of Jack the Ripper. Drawing on his ground-breaking research from over the last 30 years and his remarkable collection of images Neil will explore the known facts about murders\, the women who were murdered\, prime suspects and back drop of social conditions that surrounded the most infamous crimes in British history. 
URL:https://easterneducationgroup.ac.uk/event/the-crimes-and-times-of-jack-the-ripper/
LOCATION:University Studies at West Suffolk College\, 73 Western Way\, Bury St Edmunds\, England\, IP33 3SP\, United Kingdom
CATEGORIES:Edmund's Open Lecture Series
ATTACH;FMTTYPE=image/jpeg:https://easterneducationgroup.ac.uk/wp-content/uploads/sites/2/2025/06/c7017888cf93b0a7b5118c77bc0e0e91-dv6Kog.tmp_.jpg
END:VEVENT
BEGIN:VEVENT
DTSTART;TZID=Europe/London:20250605T174500
DTEND;TZID=Europe/London:20250605T190000
DTSTAMP:20260424T223444
CREATED:20250603T133218Z
LAST-MODIFIED:20250603T133732Z
UID:10000056-1749145500-1749150000@easterneducationgroup.ac.uk
SUMMARY:Return to Normandy
DESCRIPTION:This talk offers a fascinating and personal glimpse into the extraordinary feats of ordinary men during extraordinary times.\n\n\nReturn to Normandy \nJoin Taff Gillingham as he recounts the compelling story of the 1st Battalion Suffolk Regiment during the Normandy Landings. From rigorous training to the chaos of D-Day and the initial days in France\, Taff shares firsthand anecdotes from veterans he knew personally. This talk offers a fascinating and personal glimpse into the extraordinary feats of ordinary men during extraordinary times. \nTaff Gillingham is a military historical advisor for film\, television\, and theatre productions and\, in a thirty-year career\, has been involved in many major productions. He also co-owns Khaki Devil Limited; a company supplying historically accurate uniforms\, equipment\, weapons\, and props for productions.
URL:https://easterneducationgroup.ac.uk/event/return-to-normandy/
LOCATION:University Studies at West Suffolk College\, 73 Western Way\, Bury St Edmunds\, England\, IP33 3SP\, United Kingdom
CATEGORIES:Edmund's Open Lecture Series
ATTACH;FMTTYPE=image/jpeg:https://easterneducationgroup.ac.uk/wp-content/uploads/sites/2/2025/06/7689afd899b772cb04cc3f9fe3fb3e89-AlMS0f.tmp_.jpg
END:VEVENT
END:VCALENDAR