BEGIN:VCALENDAR
VERSION:2.0
PRODID:-//Eastern Education Group - ECPv6.15.20//NONSGML v1.0//EN
CALSCALE:GREGORIAN
METHOD:PUBLISH
X-WR-CALNAME:Eastern Education Group
X-ORIGINAL-URL:https://easterneducationgroup.ac.uk
X-WR-CALDESC:Events for Eastern Education Group
REFRESH-INTERVAL;VALUE=DURATION:PT1H
X-Robots-Tag:noindex
X-PUBLISHED-TTL:PT1H
BEGIN:VTIMEZONE
TZID:Europe/London
BEGIN:DAYLIGHT
TZOFFSETFROM:+0000
TZOFFSETTO:+0100
TZNAME:BST
DTSTART:20240331T010000
END:DAYLIGHT
BEGIN:STANDARD
TZOFFSETFROM:+0100
TZOFFSETTO:+0000
TZNAME:GMT
DTSTART:20241027T010000
END:STANDARD
BEGIN:DAYLIGHT
TZOFFSETFROM:+0000
TZOFFSETTO:+0100
TZNAME:BST
DTSTART:20250330T010000
END:DAYLIGHT
BEGIN:STANDARD
TZOFFSETFROM:+0100
TZOFFSETTO:+0000
TZNAME:GMT
DTSTART:20251026T010000
END:STANDARD
BEGIN:DAYLIGHT
TZOFFSETFROM:+0000
TZOFFSETTO:+0100
TZNAME:BST
DTSTART:20260329T010000
END:DAYLIGHT
BEGIN:STANDARD
TZOFFSETFROM:+0100
TZOFFSETTO:+0000
TZNAME:GMT
DTSTART:20261025T010000
END:STANDARD
END:VTIMEZONE
BEGIN:VEVENT
DTSTART;TZID=Europe/London:20251203T174500
DTEND;TZID=Europe/London:20251203T203000
DTSTAMP:20260424T203553
CREATED:20251015T052040Z
LAST-MODIFIED:20251015T052253Z
UID:10000115-1764783900-1764793800@easterneducationgroup.ac.uk
SUMMARY:EMpowered (for parents and students) at One Sixth Form College
DESCRIPTION:Join us to hear from employers through a series of talks from companies within the infrastructure sector including Sizewell C\, Galliford Try and Kier\, showcasing their apprenticeship and career pathways. After the talks there will be an opportunity to build valuable connections by networking face-to-face at employer stands.
URL:https://easterneducationgroup.ac.uk/event/empowered-for-parents-and-students-at-the-university-and-professional-development-centre/
LOCATION:University and Professional Development Centre\, 73 Western Way\, Bury St. Edmunds IP33 3SP\, 73 Western Way\, Bury St Edmunds\, England\, IP33 3TB\, United Kingdom
CATEGORIES:EMPowered
ATTACH;FMTTYPE=image/png:https://easterneducationgroup.ac.uk/wp-content/uploads/sites/2/2025/10/futures-header.png
END:VEVENT
BEGIN:VEVENT
DTSTART;TZID=Europe/London:20251125T174500
DTEND;TZID=Europe/London:20251125T203000
DTSTAMP:20260424T203553
CREATED:20251015T052145Z
LAST-MODIFIED:20251015T052456Z
UID:10000116-1764092700-1764102600@easterneducationgroup.ac.uk
SUMMARY:EMpowered (for parents and students) at the University and Professional Development Centre
DESCRIPTION:Join us to hear from employers through a series of talks from companies within the infrastructure sector including Sizewell C\, Galliford Try and Kier\, showcasing their apprenticeship and career pathways. After the talks there will be an opportunity to build valuable connections by networking face-to-face at employer stands.
URL:https://easterneducationgroup.ac.uk/event/empowered-for-parents-and-students-at-the-university-and-professional-development-centre-2/
LOCATION:University and Professional Development Centre\, 73 Western Way\, Bury St. Edmunds IP33 3SP\, 73 Western Way\, Bury St Edmunds\, England\, IP33 3TB\, United Kingdom
CATEGORIES:EMPowered
ATTACH;FMTTYPE=image/png:https://easterneducationgroup.ac.uk/wp-content/uploads/sites/2/2025/10/futures-header.png
END:VEVENT
END:VCALENDAR