BEGIN:VCALENDAR
VERSION:2.0
PRODID:-//Eastern Education Group - ECPv6.15.20//NONSGML v1.0//EN
CALSCALE:GREGORIAN
METHOD:PUBLISH
X-ORIGINAL-URL:https://easterneducationgroup.ac.uk
X-WR-CALDESC:Events for Eastern Education Group
REFRESH-INTERVAL;VALUE=DURATION:PT1H
X-Robots-Tag:noindex
X-PUBLISHED-TTL:PT1H
BEGIN:VTIMEZONE
TZID:Europe/London
BEGIN:DAYLIGHT
TZOFFSETFROM:+0000
TZOFFSETTO:+0100
TZNAME:BST
DTSTART:20240331T010000
END:DAYLIGHT
BEGIN:STANDARD
TZOFFSETFROM:+0100
TZOFFSETTO:+0000
TZNAME:GMT
DTSTART:20241027T010000
END:STANDARD
BEGIN:DAYLIGHT
TZOFFSETFROM:+0000
TZOFFSETTO:+0100
TZNAME:BST
DTSTART:20250330T010000
END:DAYLIGHT
BEGIN:STANDARD
TZOFFSETFROM:+0100
TZOFFSETTO:+0000
TZNAME:GMT
DTSTART:20251026T010000
END:STANDARD
BEGIN:DAYLIGHT
TZOFFSETFROM:+0000
TZOFFSETTO:+0100
TZNAME:BST
DTSTART:20260329T010000
END:DAYLIGHT
BEGIN:STANDARD
TZOFFSETFROM:+0100
TZOFFSETTO:+0000
TZNAME:GMT
DTSTART:20261025T010000
END:STANDARD
BEGIN:DAYLIGHT
TZOFFSETFROM:+0000
TZOFFSETTO:+0100
TZNAME:BST
DTSTART:20270328T010000
END:DAYLIGHT
BEGIN:STANDARD
TZOFFSETFROM:+0100
TZOFFSETTO:+0000
TZNAME:GMT
DTSTART:20271031T010000
END:STANDARD
END:VTIMEZONE
BEGIN:VEVENT
DTSTART;TZID=Europe/London:20260211T173000
DTEND;TZID=Europe/London:20260211T193000
DTSTAMP:20260424T230546
CREATED:20250605T135545Z
LAST-MODIFIED:20260203T112756Z
UID:10000059-1770831000-1770838200@easterneducationgroup.ac.uk
SUMMARY:West Suffolk College Open Day - Wednesday 11 February
DESCRIPTION:Join us for an Open Day and get a real feel for life at West Suffolk College Sixth Form!\n\n\nImportant note: Please fill out the booking form with the prospective student’s details. Only one ticket is required per student. Parents and carers do not need to book a ticket. \nJoin us for an Open Day and get a real feel for life at West Suffolk College Sixth Form! \nExplore the courses you’re interested in\, explore our modern facilities\, and meet current students\, teachers\, and tutors who will support you throughout your journey. \nOur award-winning pastoral support team will be on hand to answer any questions about student welfare\, financial support\, travel\, and any additional help you may need. You’ll also learn about the wide range of extra-curricular opportunities available to enrich your college experience and create experiences to remember. \nThe Admissions Team will be available to guide you through the application process – and you can even apply on the day! \nPlease note: Open Days can get busy\, so please choose an arrival time that works best for you. This helps us manage visitor flow and ensure a great experience for everyone. \nWe look forward to welcoming you! \n\n\n\n\n\nRegister
URL:https://easterneducationgroup.ac.uk/event/west-suffolk-college-open-day-wednesday-11th-february/
LOCATION:West Suffolk College\, Out Risbygate\, Bury St Edmunds\, England\, IP33 3RL\, United Kingdom
CATEGORIES:Open Days,West Suffolk College Open Days
ATTACH;FMTTYPE=image/jpeg:https://easterneducationgroup.ac.uk/wp-content/uploads/sites/2/2025/06/open-day-wsc.jpg
END:VEVENT
BEGIN:VEVENT
DTSTART;TZID=Europe/London:20251122T093000
DTEND;TZID=Europe/London:20251122T123000
DTSTAMP:20260424T230546
CREATED:20250605T134959Z
LAST-MODIFIED:20250911T145631Z
UID:10000058-1763803800-1763814600@easterneducationgroup.ac.uk
SUMMARY:West Suffolk College Sixth Form Open Day - Saturday 22nd November
DESCRIPTION:Join us for an Open Day and get a real feel for life at West Suffolk College Sixth Form!\n\n\nImportant note: Please fill out the booking form with the prospective student’s details. Only one ticket is required per student. Parents and carers do not need to book a ticket. \nJoin us for an Open Day and get a real feel for life at West Suffolk College Sixth Form! \nExplore the courses you’re interested in\, take a guided tour of our modern facilities\, and meet current students\, teachers\, and tutors who will support you throughout your journey. \nOur award-winning pastoral support team will be on hand to answer any questions about student welfare\, financial support\, travel\, and any additional help you may need. You’ll also learn about the wide range of extra-curricular opportunities available to enrich your college experience and create experiences to remember. \nThe Admissions Team will be available to guide you through the application process – and you can even apply on the day! \nPlease note: Open Days can get busy\, so please choose an arrival time that works best for you. This helps us manage visitor flow and ensure a great experience for everyone. \nWe look forward to welcoming you!
URL:https://easterneducationgroup.ac.uk/event/west-suffolk-college-sixth-form-open-day-saturday-22nd-november/
LOCATION:West Suffolk College\, Out Risbygate\, Bury St Edmunds\, England\, IP33 3RL\, United Kingdom
CATEGORIES:Open Days,West Suffolk College Open Days
ATTACH;FMTTYPE=image/jpeg:https://easterneducationgroup.ac.uk/wp-content/uploads/sites/2/2025/09/3f46a5df7963a06d7a6caca25817fb29-oUB1a8.tmp_.jpg
END:VEVENT
BEGIN:VEVENT
DTSTART;TZID=Europe/London:20251001T173000
DTEND;TZID=Europe/London:20251001T193000
DTSTAMP:20260424T230546
CREATED:20250605T131625Z
LAST-MODIFIED:20250904T143844Z
UID:10000057-1759339800-1759347000@easterneducationgroup.ac.uk
SUMMARY:West Suffolk College Sixth Form Open Day - Wednesday 1st October
DESCRIPTION:Join us for an Open Day and get a real feel for life at West Suffolk College Sixth Form!\n\n\nImportant note: Please fill out the booking form with the prospective student’s details. Only one ticket is required per student. Parents and carers do not need to book a ticket. \nJoin us for an Open Day and get a real feel for life at West Suffolk College Sixth Form! \nExplore the courses you’re interested in\, take a guided tour of our modern facilities\, and meet current students\, teachers\, and tutors who will support you throughout your journey. \nOur award-winning pastoral support team will be on hand to answer any questions about student welfare\, financial support\, travel\, and any additional help you may need. You’ll also learn about the wide range of extra-curricular opportunities available to enrich your college experience and create experiences to remember. \nThe Admissions Team will be available to guide you through the application process – and you can even apply on the day! \nPlease note: Open Days can get busy\, so please choose an arrival time that works best for you. This helps us manage visitor flow and ensure a great experience for everyone. \nWe look forward to welcoming you!
URL:https://easterneducationgroup.ac.uk/event/west-suffolk-college-sixth-form-open-day-wednesday-1st-october/
LOCATION:West Suffolk College\, Out Risbygate\, Bury St Edmunds\, England\, IP33 3RL\, United Kingdom
CATEGORIES:Open Days,West Suffolk College Open Days
ATTACH;FMTTYPE=image/jpeg:https://easterneducationgroup.ac.uk/wp-content/uploads/sites/2/2025/09/3f46a5df7963a06d7a6caca25817fb29-oUB1a8.tmp_.jpg
END:VEVENT
BEGIN:VEVENT
DTSTART;TZID=Europe/London:20250829T100000
DTEND;TZID=Europe/London:20250829T150000
DTSTAMP:20260424T230546
CREATED:20250821T082325Z
LAST-MODIFIED:20250822T082700Z
UID:10000081-1756461600-1756479600@easterneducationgroup.ac.uk
SUMMARY:West Suffolk College Explore Your Options Event
DESCRIPTION:There’s still time to submit your application and secure your place at West Suffolk College.\n\n\nImportant note: Please fill out the booking form with the prospective student’s details. \nThis event is intended for Year 11s only \nExplore Your Options – Still Time to Apply for September 2025. \nWould you like to study at an outstanding college in September 2025? There’s still time to submit your application and secure your place at West Suffolk College. \nCome along to our Explore Your Options event on Friday 29 August 2025\, where you will be able to find out more from subject tutors\, submit your application\, complete your interview and be offered a place all in one day! \nOur friendly team will be on-hand to provide the guidance you need and support you with finding the right course and submitting an application\, so that your journey to receiving an offer to study* is as easy as possible! \n*An offer to study at West Suffolk College is subject to meeting the entry requirements for your chosen course\, availability on that specific course and subject to an interview to be completed on 29 August 2025. \nPlease note: arrival times help us to manage the volume of visitor we welcome to our events and help us to ensure the best experience for all. Please sign up to the time that best suits you. \nPlease book one ticket per prospective student attending. Additional guests such as parents/carers do not need to book a ticket.
URL:https://easterneducationgroup.ac.uk/event/west-suffolk-college-explore-your-options-event-2/
LOCATION:West Suffolk College\, Out Risbygate\, Bury St Edmunds\, England\, IP33 3RL\, United Kingdom
CATEGORIES:West Suffolk College Open Days
ATTACH;FMTTYPE=image/jpeg:https://easterneducationgroup.ac.uk/wp-content/uploads/sites/2/2025/06/5043c0955e7bc2f59cbe204de5f7ae49-detFIk.tmp_.jpg
END:VEVENT
END:VCALENDAR