BEGIN:VCALENDAR
VERSION:2.0
PRODID:-//Eastern Education Group - ECPv6.15.20//NONSGML v1.0//EN
CALSCALE:GREGORIAN
METHOD:PUBLISH
X-WR-CALNAME:Eastern Education Group
X-ORIGINAL-URL:https://easterneducationgroup.ac.uk
X-WR-CALDESC:Events for Eastern Education Group
REFRESH-INTERVAL;VALUE=DURATION:PT1H
X-Robots-Tag:noindex
X-PUBLISHED-TTL:PT1H
BEGIN:VTIMEZONE
TZID:Europe/London
BEGIN:DAYLIGHT
TZOFFSETFROM:+0000
TZOFFSETTO:+0100
TZNAME:BST
DTSTART:20250330T010000
END:DAYLIGHT
BEGIN:STANDARD
TZOFFSETFROM:+0100
TZOFFSETTO:+0000
TZNAME:GMT
DTSTART:20251026T010000
END:STANDARD
BEGIN:DAYLIGHT
TZOFFSETFROM:+0000
TZOFFSETTO:+0100
TZNAME:BST
DTSTART:20260329T010000
END:DAYLIGHT
BEGIN:STANDARD
TZOFFSETFROM:+0100
TZOFFSETTO:+0000
TZNAME:GMT
DTSTART:20261025T010000
END:STANDARD
BEGIN:DAYLIGHT
TZOFFSETFROM:+0000
TZOFFSETTO:+0100
TZNAME:BST
DTSTART:20270328T010000
END:DAYLIGHT
BEGIN:STANDARD
TZOFFSETFROM:+0100
TZOFFSETTO:+0000
TZNAME:GMT
DTSTART:20271031T010000
END:STANDARD
END:VTIMEZONE
BEGIN:VEVENT
DTSTART;TZID=Europe/London:20260203T163000
DTEND;TZID=Europe/London:20260203T183000
DTSTAMP:20260424T223606
CREATED:20251028T142557Z
LAST-MODIFIED:20260203T143326Z
UID:10000130-1770136200-1770143400@easterneducationgroup.ac.uk
SUMMARY:Adult Learning and Careers Advice Event at Thetford Learning Centre
DESCRIPTION:Join us at the Adult Learning and Careers Advice Event at Thetford Learning Centre and discover how learning can open new doors.Join us at the Adult Learning and Careers Advice Event at Thetford Learning Centre and discover how learning can open new doors. Whether you want to boost your career\, retrain\, refresh your skills\, or try something new for fun and wellbeing\, our friendly team\, tutors\, and careers advisors are here to support you every step of the way.  Ready to take the next step for your career\, your goals\, or just for you? Whether you’re looking to boost your skills for work\, return to learning to achieve your ambitions\, or try something new to enrich your wellbeing\, there’s something waiting for you right here in Thetford!  Join us at our Adult Learning and Careers Advice Event at Thetford Learning Centre and discover how we can support your journey: Advance in your chosen careerRetrain for something newRefresh your essential skills in Maths\, English\, and Digital SkillsLearn for fun\, mental health and wellbeingCome meet our friendly team\, chat with tutors\, get personalised careers advice\, and take the first exciting step on your learning journey.
URL:https://easterneducationgroup.ac.uk/event/adult-learning-and-careers-advice-event-at-thetford-learning-centre/
LOCATION:Thetford Learning Centre at WSC\, West Suffolk College\, Staniforth Road\, Thetford\, England\, IP24 3LH\, United Kingdom
CATEGORIES:Learning Centre Open Days,Open Days
ATTACH;FMTTYPE=image/jpeg:https://easterneducationgroup.ac.uk/wp-content/uploads/sites/2/2025/10/5d903e820cc88c2b42fe353de586c7d3-0axTFq.tmp_.jpg
END:VEVENT
END:VCALENDAR